


BEGIN:VCALENDAR
VERSION:2.0
PRODID:-//NAV - Nordic Cattle Genetic Evaluation - ECPv4.5.2.1//NONSGML v1.0//EN
CALSCALE:GREGORIAN
METHOD:PUBLISH
X-WR-CALNAME:NAV - Nordic Cattle Genetic Evaluation
X-ORIGINAL-URL:http://www.nordicebv.info
X-WR-CALDESC:Events for NAV - Nordic Cattle Genetic Evaluation
BEGIN:VEVENT
DTSTART;VALUE=DATE:20170808
DTEND;VALUE=DATE:20170808
DTSTAMP:20170712T153350
CREATED:20161202T051906Z
LAST-MODIFIED:20161202T051906Z
UID:4768-1502150400-1502236799@www.nordicebv.info
SUMMARY:Interbull evaluation
DESCRIPTION:
URL:http://www.nordicebv.info/events/interbull-evaluation-7/
END:VEVENT
END:VCALENDAR